BEGIN:VCALENDAR
VERSION:2.0
PRODID:-//Mission Hospice &amp; Home Care - ECPv6.15.20//NONSGML v1.0//EN
CALSCALE:GREGORIAN
METHOD:PUBLISH
X-ORIGINAL-URL:https://www.missionhospice.org
X-WR-CALDESC:Events for Mission Hospice &amp; Home Care
REFRESH-INTERVAL;VALUE=DURATION:PT1H
X-Robots-Tag:noindex
X-PUBLISHED-TTL:PT1H
BEGIN:VTIMEZONE
TZID:America/Los_Angeles
BEGIN:DAYLIGHT
TZOFFSETFROM:-0800
TZOFFSETTO:-0700
TZNAME:PDT
DTSTART:20230312T100000
END:DAYLIGHT
BEGIN:STANDARD
TZOFFSETFROM:-0700
TZOFFSETTO:-0800
TZNAME:PST
DTSTART:20231105T090000
END:STANDARD
BEGIN:DAYLIGHT
TZOFFSETFROM:-0800
TZOFFSETTO:-0700
TZNAME:PDT
DTSTART:20240310T100000
END:DAYLIGHT
BEGIN:STANDARD
TZOFFSETFROM:-0700
TZOFFSETTO:-0800
TZNAME:PST
DTSTART:20241103T090000
END:STANDARD
BEGIN:DAYLIGHT
TZOFFSETFROM:-0800
TZOFFSETTO:-0700
TZNAME:PDT
DTSTART:20250309T100000
END:DAYLIGHT
BEGIN:STANDARD
TZOFFSETFROM:-0700
TZOFFSETTO:-0800
TZNAME:PST
DTSTART:20251102T090000
END:STANDARD
END:VTIMEZONE
BEGIN:VEVENT
DTSTART;TZID=America/Los_Angeles:20240819T180000
DTEND;TZID=America/Los_Angeles:20240819T193000
DTSTAMP:20260420T095721
CREATED:20240610T033426Z
LAST-MODIFIED:20240610T033649Z
UID:10009462-1724090400-1724095800@www.missionhospice.org
SUMMARY:*VIRTUAL* Grief Support Book Club
DESCRIPTION:This free *virtual* grief support book club (quarterly on the 4th Monday of the month) is for those who like to read and discuss how stories relate to their own grief experience. \nAugust’s book will be selections from Devotions: The Collected Poems of Mary Oliver (published 2020). \nPlease contact facilitator Kate Nitze\, MSW by email for more information and to sign up for the group. \n 
URL:https://www.missionhospice.org/event/virtual-grief-support-book-club-6/
CATEGORIES:Grief Support
ORGANIZER;CN="Kate Nitze":MAILTO:knitze@missionhospice.org
LOCATION:https://www.missionhospice.org/event/virtual-grief-support-book-club-6/
END:VEVENT
BEGIN:VEVENT
DTSTART;TZID=America/Los_Angeles:20240820T100000
DTEND;TZID=America/Los_Angeles:20240820T113000
DTSTAMP:20260420T095721
CREATED:20240610T004205Z
LAST-MODIFIED:20240610T004205Z
UID:10009454-1724148000-1724153400@www.missionhospice.org
SUMMARY:*VIRTUAL* Death Cafe
DESCRIPTION:At a Death Café\, anyone can participate! We gather in a virtual environment\, to openly and tenderly talk about death and dying. The conversation is facilitated and is a completely open and safe space to share your experiences\, feelings\, thoughts\, and ideas on any topic related to death and dying. There is no set agenda. This is a discussion group\, not a grief support group\, although many people share about the loss of loved ones. So bring a cup of tea and join us on Zoom in this supportive and welcoming environment. \nParticipation is free\, but registration is required.
URL:https://www.missionhospice.org/event/virtual-death-cafe-42/
CATEGORIES:Community Events
ORGANIZER;CN="Mission Hospice Community Education":MAILTO:communityeducation@missionhospice.org
LOCATION:https://www.missionhospice.org/event/virtual-death-cafe-42/
END:VEVENT
BEGIN:VEVENT
DTSTART;TZID=America/Los_Angeles:20240822T160000
DTEND;TZID=America/Los_Angeles:20240822T173000
DTSTAMP:20260420T095721
CREATED:20200923T213723Z
LAST-MODIFIED:20221104T211943Z
UID:10002677-1724342400-1724347800@www.missionhospice.org
SUMMARY:*VIRTUAL* Drop-in Support Group – Thursday Afternoons
DESCRIPTION:This weekly *virtual* drop-in Bereavement Support Group is offered by video/phone\, free of charge. It’s open to family members of Mission Hospice patients\, and to all bereaved individuals living in Mission Hospice’s geographical service area. Please contact Christine Kovach\, LCSW by email for more information.
URL:https://www.missionhospice.org/event/virtual-drop-in-support-group-thursday-afternoons-2/2024-08-22/
CATEGORIES:Grief Support
ORGANIZER;CN="Christine Kovach%2C LCSW":MAILTO:ckovach@missionhospice.org
LOCATION:https://www.missionhospice.org/event/virtual-drop-in-support-group-thursday-afternoons-2/2024-08-22/
END:VEVENT
BEGIN:VEVENT
DTSTART;TZID=America/Los_Angeles:20240824T100000
DTEND;TZID=America/Los_Angeles:20240824T113000
DTSTAMP:20260420T095721
CREATED:20220923T212554Z
LAST-MODIFIED:20220923T212554Z
UID:10003531-1724493600-1724499000@www.missionhospice.org
SUMMARY:*VIRTUAL* Drop-in Support Group for Spouse/Partner Loss – 2nd/4th Saturday Mornings
DESCRIPTION:This biweekly *virtual* drop-in Bereavement Support Group focused on spouse/partner loss is offered by video/phone\, free of charge. This group is open to family members of Mission Hospice patients\, and to all bereaved individuals living in Mission Hospice’s geographical service area. \nPlease contact Christine Kovach\, LCSW by email for more information.
URL:https://www.missionhospice.org/event/virtual-drop-in-support-group-for-spouse-partner-loss-2nd-4th-saturday-mornings-2/2024-08-24/
CATEGORIES:Grief Support
ORGANIZER;CN="Christine Kovach%2C LCSW":MAILTO:ckovach@missionhospice.org
LOCATION:https://www.missionhospice.org/event/virtual-drop-in-support-group-for-spouse-partner-loss-2nd-4th-saturday-mornings-2/2024-08-24/
END:VEVENT
BEGIN:VEVENT
DTSTART;TZID=America/Los_Angeles:20240824T103000
DTEND;TZID=America/Los_Angeles:20240824T120000
DTSTAMP:20260420T095721
CREATED:20240613T031239Z
LAST-MODIFIED:20240613T040136Z
UID:10009559-1724495400-1724500800@www.missionhospice.org
SUMMARY:Film screening with San Mateo Caregivers Collaborative! Caregiver: A Love Story
DESCRIPTION:This short award-winning documentary film follows a woman’s decision to take control of the end of her life and the unexpected challenges it creates for her caregiver husband. The touching film highlights the critical importance of – and difficulties presented by – family caregivers. Join us to watch the film and then discuss it with others who understand the challenges and joys of caregiving. \n 
URL:https://www.missionhospice.org/event/film-screening-with-san-mateo-caregivers-collaborative-caregiver-a-love-story/
LOCATION:Coastside Adult Day Health Center\, 925 Main Street\, Half Moon Bay\, CA\, 94019
CATEGORIES:Community Events
ORGANIZER;CN="Mission Hospice Community Education":MAILTO:communityeducation@missionhospice.org
END:VEVENT
END:VCALENDAR