BEGIN:VCALENDAR
VERSION:2.0
PRODID:-//Mission Hospice &amp; Home Care - ECPv6.15.20//NONSGML v1.0//EN
CALSCALE:GREGORIAN
METHOD:PUBLISH
X-ORIGINAL-URL:https://www.missionhospice.org
X-WR-CALDESC:Events for Mission Hospice &amp; Home Care
REFRESH-INTERVAL;VALUE=DURATION:PT1H
X-Robots-Tag:noindex
X-PUBLISHED-TTL:PT1H
BEGIN:VTIMEZONE
TZID:America/Los_Angeles
BEGIN:DAYLIGHT
TZOFFSETFROM:-0800
TZOFFSETTO:-0700
TZNAME:PDT
DTSTART:20230312T100000
END:DAYLIGHT
BEGIN:STANDARD
TZOFFSETFROM:-0700
TZOFFSETTO:-0800
TZNAME:PST
DTSTART:20231105T090000
END:STANDARD
BEGIN:DAYLIGHT
TZOFFSETFROM:-0800
TZOFFSETTO:-0700
TZNAME:PDT
DTSTART:20240310T100000
END:DAYLIGHT
BEGIN:STANDARD
TZOFFSETFROM:-0700
TZOFFSETTO:-0800
TZNAME:PST
DTSTART:20241103T090000
END:STANDARD
BEGIN:DAYLIGHT
TZOFFSETFROM:-0800
TZOFFSETTO:-0700
TZNAME:PDT
DTSTART:20250309T100000
END:DAYLIGHT
BEGIN:STANDARD
TZOFFSETFROM:-0700
TZOFFSETTO:-0800
TZNAME:PST
DTSTART:20251102T090000
END:STANDARD
END:VTIMEZONE
BEGIN:VEVENT
DTSTART;TZID=America/Los_Angeles:20240801T160000
DTEND;TZID=America/Los_Angeles:20240801T173000
DTSTAMP:20260423T035207
CREATED:20200923T213723Z
LAST-MODIFIED:20221104T211943Z
UID:10002674-1722528000-1722533400@www.missionhospice.org
SUMMARY:*VIRTUAL* Drop-in Support Group – Thursday Afternoons
DESCRIPTION:This weekly *virtual* drop-in Bereavement Support Group is offered by video/phone\, free of charge. It’s open to family members of Mission Hospice patients\, and to all bereaved individuals living in Mission Hospice’s geographical service area. Please contact Christine Kovach\, LCSW by email for more information.
URL:https://www.missionhospice.org/event/virtual-drop-in-support-group-thursday-afternoons-2/2024-08-01/
CATEGORIES:Grief Support
ORGANIZER;CN="Christine Kovach%2C LCSW":MAILTO:ckovach@missionhospice.org
LOCATION:https://www.missionhospice.org/event/virtual-drop-in-support-group-thursday-afternoons-2/2024-08-01/
END:VEVENT
BEGIN:VEVENT
DTSTART;TZID=America/Los_Angeles:20240801T180000
DTEND;TZID=America/Los_Angeles:20240801T193000
DTSTAMP:20260423T035207
CREATED:20200924T175317Z
LAST-MODIFIED:20240501T230953Z
UID:10003648-1722535200-1722540600@www.missionhospice.org
SUMMARY:*VIRTUAL* Suicide Loss Support Group
DESCRIPTION:This free *virtual* biweekly support group (1st and 3rd Thursday evenings) is for adults grieving the loss of a loved one to suicide. This group is open to family members of Mission Hospice patients\, and to all bereaved individuals living in Mission Hospice’s geographical service area. \nPlease contact Christine Kovach\, LCSW by email for more information and to sign up for the group.
URL:https://www.missionhospice.org/event/virtual-suicide-loss-support-group-1st-3rd-thursday-evenings-2/2024-08-01/
CATEGORIES:Grief Support
ORGANIZER;CN="Christine Kovach%2C LCSW":MAILTO:ckovach@missionhospice.org
END:VEVENT
BEGIN:VEVENT
DTSTART;TZID=America/Los_Angeles:20240803T100000
DTEND;TZID=America/Los_Angeles:20240803T113000
DTSTAMP:20260423T035207
CREATED:20200923T223136Z
LAST-MODIFIED:20220908T174510Z
UID:10003251-1722679200-1722684600@www.missionhospice.org
SUMMARY:*VIRTUAL* Drop-in Support Group – 1st/3rd/5th Saturday Mornings
DESCRIPTION:This biweekly *virtual* drop-in Bereavement Support Group is offered by video/phone\, free of charge. This group is open to family members of Mission Hospice patients\, and to all bereaved individuals living in Mission Hospice’s geographical service area.  \nPlease contact Christine Kovach\, LCSW by email for more information.
URL:https://www.missionhospice.org/event/virtual-drop-in-support-group-1st-3rd-5th-saturday-mornings-2/2024-08-03/
CATEGORIES:Grief Support
ORGANIZER;CN="Christine Kovach%2C LCSW":MAILTO:ckovach@missionhospice.org
LOCATION:https://www.missionhospice.org/event/virtual-drop-in-support-group-1st-3rd-5th-saturday-mornings-2/2024-08-03/
END:VEVENT
END:VCALENDAR