BEGIN:VCALENDAR
VERSION:2.0
PRODID:-//Mission Hospice &amp; Home Care - ECPv6.15.20//NONSGML v1.0//EN
CALSCALE:GREGORIAN
METHOD:PUBLISH
X-ORIGINAL-URL:https://www.missionhospice.org
X-WR-CALDESC:Events for Mission Hospice &amp; Home Care
REFRESH-INTERVAL;VALUE=DURATION:PT1H
X-Robots-Tag:noindex
X-PUBLISHED-TTL:PT1H
BEGIN:VTIMEZONE
TZID:America/Los_Angeles
BEGIN:DAYLIGHT
TZOFFSETFROM:-0800
TZOFFSETTO:-0700
TZNAME:PDT
DTSTART:20220313T100000
END:DAYLIGHT
BEGIN:STANDARD
TZOFFSETFROM:-0700
TZOFFSETTO:-0800
TZNAME:PST
DTSTART:20221106T090000
END:STANDARD
BEGIN:DAYLIGHT
TZOFFSETFROM:-0800
TZOFFSETTO:-0700
TZNAME:PDT
DTSTART:20230312T100000
END:DAYLIGHT
BEGIN:STANDARD
TZOFFSETFROM:-0700
TZOFFSETTO:-0800
TZNAME:PST
DTSTART:20231105T090000
END:STANDARD
BEGIN:DAYLIGHT
TZOFFSETFROM:-0800
TZOFFSETTO:-0700
TZNAME:PDT
DTSTART:20240310T100000
END:DAYLIGHT
BEGIN:STANDARD
TZOFFSETFROM:-0700
TZOFFSETTO:-0800
TZNAME:PST
DTSTART:20241103T090000
END:STANDARD
END:VTIMEZONE
BEGIN:VEVENT
DTSTART;TZID=America/Los_Angeles:20230620T100000
DTEND;TZID=America/Los_Angeles:20230620T113000
DTSTAMP:20260419T071038
CREATED:20221216T220724Z
LAST-MODIFIED:20230329T000906Z
UID:10004097-1687255200-1687260600@www.missionhospice.org
SUMMARY:*VIRTUAL* Death Cafe
DESCRIPTION:At a Death Café\, anyone can participate! We gather in a virtual environment\, to openly and tenderly talk about death and dying. The conversation is facilitated and is a completely open and safe space to share your experiences\, feelings\, thoughts\, and ideas on any topic related to death and dying. There is no set agenda. This is a discussion group\, not a grief support group\, although many people share about the loss of loved ones. So bring a cup of tea and join us on Zoom in this supportive and welcoming environment. \nParticipation is free\, but registration is required.
URL:https://www.missionhospice.org/event/virtual-death-cafe-28/
CATEGORIES:Community Events
ORGANIZER;CN="Mission Hospice Community Education":MAILTO:communityeducation@missionhospice.org
LOCATION:https://www.missionhospice.org/event/virtual-death-cafe-28/
END:VEVENT
BEGIN:VEVENT
DTSTART;TZID=America/Los_Angeles:20230620T180000
DTEND;TZID=America/Los_Angeles:20230620T193000
DTSTAMP:20260419T071038
CREATED:20200923T214251Z
LAST-MODIFIED:20240102T193937Z
UID:10002981-1687284000-1687289400@www.missionhospice.org
SUMMARY:*VIRTUAL* Drop-in Support Group – Tuesday Evenings
DESCRIPTION:This weekly *virtual* drop-in Bereavement Support Group is offered by video/phone\, free of charge. This group is open to family members of Mission Hospice patients\, and to all bereaved individuals living in Mission Hospice’s geographical service area. \nPlease contact facilitator Christine Kovach\, LCSW by email for more information.
URL:https://www.missionhospice.org/event/virtual-drop-in-support-group-tuesday-evenings-2/2023-06-20/
CATEGORIES:Grief Support
ORGANIZER;CN="Christine Kovach%2C LCSW":MAILTO:ckovach@missionhospice.org
LOCATION:https://www.missionhospice.org/event/virtual-drop-in-support-group-tuesday-evenings-2/2023-06-20/
END:VEVENT
BEGIN:VEVENT
DTSTART;TZID=America/Los_Angeles:20230622T160000
DTEND;TZID=America/Los_Angeles:20230622T173000
DTSTAMP:20260419T071038
CREATED:20200923T213723Z
LAST-MODIFIED:20221104T211943Z
UID:10002616-1687449600-1687455000@www.missionhospice.org
SUMMARY:*VIRTUAL* Drop-in Support Group – Thursday Afternoons
DESCRIPTION:This weekly *virtual* drop-in Bereavement Support Group is offered by video/phone\, free of charge. It’s open to family members of Mission Hospice patients\, and to all bereaved individuals living in Mission Hospice’s geographical service area. Please contact Christine Kovach\, LCSW by email for more information.
URL:https://www.missionhospice.org/event/virtual-drop-in-support-group-thursday-afternoons-2/2023-06-22/
CATEGORIES:Grief Support
ORGANIZER;CN="Christine Kovach%2C LCSW":MAILTO:ckovach@missionhospice.org
LOCATION:https://www.missionhospice.org/event/virtual-drop-in-support-group-thursday-afternoons-2/2023-06-22/
END:VEVENT
BEGIN:VEVENT
DTSTART;TZID=America/Los_Angeles:20230624T093000
DTEND;TZID=America/Los_Angeles:20230624T150000
DTSTAMP:20260419T071038
CREATED:20221216T204928Z
LAST-MODIFIED:20230227T235653Z
UID:10004123-1687599000-1687618800@www.missionhospice.org
SUMMARY:New Volunteer Training Session
DESCRIPTION:Our February and March training sessions (Saturdays\, February 18-March 11\, 9:30am-3pm\, and Thursdays\, February 23 and March 9\, 6:30-8:30pm) will prepare you for being a Direct Care volunteer for our patients. \nTo apply and register\, contact Volunteer Services Director Craig Schroeder at 650.532.2323 or by email.
URL:https://www.missionhospice.org/event/virtual-new-volunteer-training-session-2-2/2023-06-24/
LOCATION:Mission Hospice Peninsula Office\, 66 Bovet Rd.\, San Mateo\, CA\, 94402\, United States
CATEGORIES:Volunteer Training
ORGANIZER;CN="Craig Schroeder":MAILTO:cschroeder@missionhospice.org
GEO:37.5589635;-122.3030424
X-APPLE-STRUCTURED-LOCATION;VALUE=URI;X-ADDRESS=Mission Hospice Peninsula Office 66 Bovet Rd. San Mateo CA 94402 United States;X-APPLE-RADIUS=500;X-TITLE=66 Bovet Rd.:geo:-122.3030424,37.5589635
END:VEVENT
BEGIN:VEVENT
DTSTART;TZID=America/Los_Angeles:20230624T100000
DTEND;TZID=America/Los_Angeles:20230624T113000
DTSTAMP:20260419T071038
CREATED:20220923T212554Z
LAST-MODIFIED:20220923T212554Z
UID:10003517-1687600800-1687606200@www.missionhospice.org
SUMMARY:*VIRTUAL* Drop-in Support Group for Spouse/Partner Loss – 2nd/4th Saturday Mornings
DESCRIPTION:This biweekly *virtual* drop-in Bereavement Support Group focused on spouse/partner loss is offered by video/phone\, free of charge. This group is open to family members of Mission Hospice patients\, and to all bereaved individuals living in Mission Hospice’s geographical service area. \nPlease contact Christine Kovach\, LCSW by email for more information.
URL:https://www.missionhospice.org/event/virtual-drop-in-support-group-for-spouse-partner-loss-2nd-4th-saturday-mornings-2/2023-06-24/
CATEGORIES:Grief Support
ORGANIZER;CN="Christine Kovach%2C LCSW":MAILTO:ckovach@missionhospice.org
LOCATION:https://www.missionhospice.org/event/virtual-drop-in-support-group-for-spouse-partner-loss-2nd-4th-saturday-mornings-2/2023-06-24/
END:VEVENT
END:VCALENDAR