BEGIN:VCALENDAR
VERSION:2.0
PRODID:-//Mission Hospice &amp; Home Care - ECPv6.15.20//NONSGML v1.0//EN
CALSCALE:GREGORIAN
METHOD:PUBLISH
X-ORIGINAL-URL:https://www.missionhospice.org
X-WR-CALDESC:Events for Mission Hospice &amp; Home Care
REFRESH-INTERVAL;VALUE=DURATION:PT1H
X-Robots-Tag:noindex
X-PUBLISHED-TTL:PT1H
BEGIN:VTIMEZONE
TZID:America/Los_Angeles
BEGIN:DAYLIGHT
TZOFFSETFROM:-0800
TZOFFSETTO:-0700
TZNAME:PDT
DTSTART:20220313T100000
END:DAYLIGHT
BEGIN:STANDARD
TZOFFSETFROM:-0700
TZOFFSETTO:-0800
TZNAME:PST
DTSTART:20221106T090000
END:STANDARD
BEGIN:DAYLIGHT
TZOFFSETFROM:-0800
TZOFFSETTO:-0700
TZNAME:PDT
DTSTART:20230312T100000
END:DAYLIGHT
BEGIN:STANDARD
TZOFFSETFROM:-0700
TZOFFSETTO:-0800
TZNAME:PST
DTSTART:20231105T090000
END:STANDARD
BEGIN:DAYLIGHT
TZOFFSETFROM:-0800
TZOFFSETTO:-0700
TZNAME:PDT
DTSTART:20240310T100000
END:DAYLIGHT
BEGIN:STANDARD
TZOFFSETFROM:-0700
TZOFFSETTO:-0800
TZNAME:PST
DTSTART:20241103T090000
END:STANDARD
END:VTIMEZONE
BEGIN:VEVENT
DTSTART;TZID=America/Los_Angeles:20230321T140000
DTEND;TZID=America/Los_Angeles:20230321T160000
DTSTAMP:20260421T025408
CREATED:20221216T211503Z
LAST-MODIFIED:20230123T214046Z
UID:10004069-1679407200-1679414400@www.missionhospice.org
SUMMARY:*VIRTUAL* Resilience in Grief: From surviving to thriving
DESCRIPTION:This free *virtual* six-week support group (Tuesdays\, February 14 – March 21\, 2-4pm) is for adults who are at least six months past the death of a loved one. It will teach core skills for developing and strengthening resilience using lecture\, handouts\, exercises\, and discussion in a supportive environment. The skills to be taught include self-care\, self-compassion\, stress reduction\, self-renewal\, mindfulness\, managing difficult emotions\, identifying self-defeating thoughts\, and fostering positive emotions. \nPlease contact facilitator Chris Sarch by email for more information and to sign up for the group.
URL:https://www.missionhospice.org/event/virtual-resilience-in-grief-support-group-2/2023-03-21/
CATEGORIES:Grief Support
ATTACH;FMTTYPE=image/png:https://www.missionhospice.org/wp-content/uploads/Resilience-in-Grief-Group-Feb-14-March-21-2023-v2.png
ORGANIZER;CN="Christine Kovach%2C LCSW":MAILTO:ckovach@missionhospice.org
LOCATION:https://www.missionhospice.org/event/virtual-resilience-in-grief-support-group-2/2023-03-21/
END:VEVENT
BEGIN:VEVENT
DTSTART;TZID=America/Los_Angeles:20230321T180000
DTEND;TZID=America/Los_Angeles:20230321T193000
DTSTAMP:20260421T025409
CREATED:20200923T214251Z
LAST-MODIFIED:20240102T193937Z
UID:10002968-1679421600-1679427000@www.missionhospice.org
SUMMARY:*VIRTUAL* Drop-in Support Group – Tuesday Evenings
DESCRIPTION:This weekly *virtual* drop-in Bereavement Support Group is offered by video/phone\, free of charge. This group is open to family members of Mission Hospice patients\, and to all bereaved individuals living in Mission Hospice’s geographical service area. \nPlease contact facilitator Christine Kovach\, LCSW by email for more information.
URL:https://www.missionhospice.org/event/virtual-drop-in-support-group-tuesday-evenings-2/2023-03-21/
CATEGORIES:Grief Support
ORGANIZER;CN="Christine Kovach%2C LCSW":MAILTO:ckovach@missionhospice.org
LOCATION:https://www.missionhospice.org/event/virtual-drop-in-support-group-tuesday-evenings-2/2023-03-21/
END:VEVENT
BEGIN:VEVENT
DTSTART;TZID=America/Los_Angeles:20230322T173000
DTEND;TZID=America/Los_Angeles:20230322T190000
DTSTAMP:20260421T025409
CREATED:20221216T212235Z
LAST-MODIFIED:20230223T070526Z
UID:10004081-1679506200-1679511600@www.missionhospice.org
SUMMARY:*VIRTUAL* Parent Loss Support Group
DESCRIPTION:Whether you had a close relationship or were experiencing challenges with your parent(s)\, their death may be a significant transition. This free *virtual* eight-week support group (Wednesdays\, March 1 – April 19\, 5:30-7pm) offers a safe\, supportive place to share your thoughts and feelings with others who have experienced a similar loss. This group is open to family members of Mission Hospice patients in California\, and to all bereaved individuals living in Mission Hospice’s geographical service area (the San Francisco Peninsula and South Bay). \nPlease contact facilitator Christine Kovach\, LCSW by email for more information and to sign up for the group.
URL:https://www.missionhospice.org/event/virtual-parent-loss-support-group-2/2023-03-22/
CATEGORIES:Grief Support
ATTACH;FMTTYPE=image/png:https://www.missionhospice.org/wp-content/uploads/Q1-Parent-loss-group-FINAL.png
ORGANIZER;CN="Christine Kovach%2C LCSW":MAILTO:ckovach@missionhospice.org
LOCATION:https://www.missionhospice.org/event/virtual-parent-loss-support-group-2/2023-03-22/
END:VEVENT
BEGIN:VEVENT
DTSTART;TZID=America/Los_Angeles:20230323T160000
DTEND;TZID=America/Los_Angeles:20230323T173000
DTSTAMP:20260421T025409
CREATED:20200923T213723Z
LAST-MODIFIED:20221104T211943Z
UID:10002603-1679587200-1679592600@www.missionhospice.org
SUMMARY:*VIRTUAL* Drop-in Support Group – Thursday Afternoons
DESCRIPTION:This weekly *virtual* drop-in Bereavement Support Group is offered by video/phone\, free of charge. It’s open to family members of Mission Hospice patients\, and to all bereaved individuals living in Mission Hospice’s geographical service area. Please contact Christine Kovach\, LCSW by email for more information.
URL:https://www.missionhospice.org/event/virtual-drop-in-support-group-thursday-afternoons-2/2023-03-23/
CATEGORIES:Grief Support
ORGANIZER;CN="Christine Kovach%2C LCSW":MAILTO:ckovach@missionhospice.org
LOCATION:https://www.missionhospice.org/event/virtual-drop-in-support-group-thursday-afternoons-2/2023-03-23/
END:VEVENT
BEGIN:VEVENT
DTSTART;TZID=America/Los_Angeles:20230325T080000
DTEND;TZID=America/Los_Angeles:20230325T170000
DTSTAMP:20260421T025409
CREATED:20230329T003601Z
LAST-MODIFIED:20230329T003609Z
UID:10004088-1679731200-1679763600@www.missionhospice.org
SUMMARY:Healing Touch Level 1 Training
DESCRIPTION: \nHealing Touch is a gentle\, complementary energy-based approach to health and healing. Training in this evidence-based practice can be useful for all professional and family caregivers. This two-day Level 1 training (March 25-26) is one of our ongoing offerings. Tuition is $497\, sliding scale; 16 CEUs available.\n\nTo register or for more information\, contact Constance Sweeney at 650.532.2538 or by email.
URL:https://www.missionhospice.org/event/healing-touch-level-1-training-4/
LOCATION:Mission Hospice Peninsula Office\, 66 Bovet Rd.\, San Mateo\, CA\, 94402\, United States
ORGANIZER;CN="Constance Sweeney":MAILTO:csweeney@missionhospice.org
GEO:37.5589635;-122.3030424
X-APPLE-STRUCTURED-LOCATION;VALUE=URI;X-ADDRESS=Mission Hospice Peninsula Office 66 Bovet Rd. San Mateo CA 94402 United States;X-APPLE-RADIUS=500;X-TITLE=66 Bovet Rd.:geo:-122.3030424,37.5589635
END:VEVENT
BEGIN:VEVENT
DTSTART;TZID=America/Los_Angeles:20230325T093000
DTEND;TZID=America/Los_Angeles:20230325T150000
DTSTAMP:20260421T025409
CREATED:20221216T204928Z
LAST-MODIFIED:20230227T235653Z
UID:10004110-1679736600-1679756400@www.missionhospice.org
SUMMARY:New Volunteer Training Session
DESCRIPTION:Our February and March training sessions (Saturdays\, February 18-March 11\, 9:30am-3pm\, and Thursdays\, February 23 and March 9\, 6:30-8:30pm) will prepare you for being a Direct Care volunteer for our patients. \nTo apply and register\, contact Volunteer Services Director Craig Schroeder at 650.532.2323 or by email.
URL:https://www.missionhospice.org/event/virtual-new-volunteer-training-session-2-2/2023-03-25/
LOCATION:Mission Hospice Peninsula Office\, 66 Bovet Rd.\, San Mateo\, CA\, 94402\, United States
CATEGORIES:Volunteer Training
ORGANIZER;CN="Craig Schroeder":MAILTO:cschroeder@missionhospice.org
GEO:37.5589635;-122.3030424
X-APPLE-STRUCTURED-LOCATION;VALUE=URI;X-ADDRESS=Mission Hospice Peninsula Office 66 Bovet Rd. San Mateo CA 94402 United States;X-APPLE-RADIUS=500;X-TITLE=66 Bovet Rd.:geo:-122.3030424,37.5589635
END:VEVENT
BEGIN:VEVENT
DTSTART;TZID=America/Los_Angeles:20230325T100000
DTEND;TZID=America/Los_Angeles:20230325T113000
DTSTAMP:20260421T025409
CREATED:20220923T212554Z
LAST-MODIFIED:20220923T212554Z
UID:10003514-1679738400-1679743800@www.missionhospice.org
SUMMARY:*VIRTUAL* Drop-in Support Group for Spouse/Partner Loss – 2nd/4th Saturday Mornings
DESCRIPTION:This biweekly *virtual* drop-in Bereavement Support Group focused on spouse/partner loss is offered by video/phone\, free of charge. This group is open to family members of Mission Hospice patients\, and to all bereaved individuals living in Mission Hospice’s geographical service area. \nPlease contact Christine Kovach\, LCSW by email for more information.
URL:https://www.missionhospice.org/event/virtual-drop-in-support-group-for-spouse-partner-loss-2nd-4th-saturday-mornings-2/2023-03-25/
CATEGORIES:Grief Support
ORGANIZER;CN="Christine Kovach%2C LCSW":MAILTO:ckovach@missionhospice.org
LOCATION:https://www.missionhospice.org/event/virtual-drop-in-support-group-for-spouse-partner-loss-2nd-4th-saturday-mornings-2/2023-03-25/
END:VEVENT
END:VCALENDAR