BEGIN:VCALENDAR
VERSION:2.0
PRODID:-//Mission Hospice &amp; Home Care - ECPv6.15.20//NONSGML v1.0//EN
CALSCALE:GREGORIAN
METHOD:PUBLISH
X-WR-CALNAME:Mission Hospice &amp; Home Care
X-ORIGINAL-URL:https://www.missionhospice.org
X-WR-CALDESC:Events for Mission Hospice &amp; Home Care
REFRESH-INTERVAL;VALUE=DURATION:PT1H
X-Robots-Tag:noindex
X-PUBLISHED-TTL:PT1H
BEGIN:VTIMEZONE
TZID:America/Los_Angeles
BEGIN:DAYLIGHT
TZOFFSETFROM:-0800
TZOFFSETTO:-0700
TZNAME:PDT
DTSTART:20210314T100000
END:DAYLIGHT
BEGIN:STANDARD
TZOFFSETFROM:-0700
TZOFFSETTO:-0800
TZNAME:PST
DTSTART:20211107T090000
END:STANDARD
BEGIN:DAYLIGHT
TZOFFSETFROM:-0800
TZOFFSETTO:-0700
TZNAME:PDT
DTSTART:20220313T100000
END:DAYLIGHT
BEGIN:STANDARD
TZOFFSETFROM:-0700
TZOFFSETTO:-0800
TZNAME:PST
DTSTART:20221106T090000
END:STANDARD
BEGIN:DAYLIGHT
TZOFFSETFROM:-0800
TZOFFSETTO:-0700
TZNAME:PDT
DTSTART:20230312T100000
END:DAYLIGHT
BEGIN:STANDARD
TZOFFSETFROM:-0700
TZOFFSETTO:-0800
TZNAME:PST
DTSTART:20231105T090000
END:STANDARD
END:VTIMEZONE
BEGIN:VEVENT
DTSTART;TZID=America/Los_Angeles:20221114T173000
DTEND;TZID=America/Los_Angeles:20221114T190000
DTSTAMP:20260421T013509
CREATED:20220927T182304Z
LAST-MODIFIED:20220927T182357Z
UID:10003601-1668447000-1668452400@www.missionhospice.org
SUMMARY:*VIRTUAL* Coping with the Holidays Support Group
DESCRIPTION:This free *virtual* nine-week support group (Monday evenings\, November 14\, 2022 – January 9\, 2023) will help grieving adults manage the holiday season. This group is open to family members of Mission Hospice patients and all bereaved individuals living in the the San Francisco Peninsula and South Bay. \nPlease contact facilitator Kate Nitze\, MSW by email for more information and to sign up for the group.
URL:https://www.missionhospice.org/event/virtual-coping-with-the-holidays-support-group-2/2022-11-14/
CATEGORIES:Grief Support
ORGANIZER;CN="Kate Nitze":MAILTO:knitze@missionhospice.org
LOCATION:https://www.missionhospice.org/event/virtual-coping-with-the-holidays-support-group-2/2022-11-14/
END:VEVENT
BEGIN:VEVENT
DTSTART;TZID=America/Los_Angeles:20221115T100000
DTEND;TZID=America/Los_Angeles:20221115T113000
DTSTAMP:20260421T013509
CREATED:20220926T232350Z
LAST-MODIFIED:20220926T232350Z
UID:10003993-1668506400-1668511800@www.missionhospice.org
SUMMARY:*VIRTUAL* Death Cafe
DESCRIPTION:At a Death Café\, anyone can participate! We gather in a virtual environment\, to openly and tenderly talk about death and dying. The conversation is facilitated and is a completely open and safe space to share your experiences\, feelings\, thoughts\, and ideas on any topic related to death and dying. There is no set agenda. This is a discussion group\, not a grief support group\, although many people share about the loss of loved ones. So bring a cup of tea and join us on Zoom in this supportive and welcoming environment. \nParticipation is free\, but registration is required.
URL:https://www.missionhospice.org/event/virtual-death-cafe-25/
CATEGORIES:Community Events
ORGANIZER;CN="Mission Hospice Community Education":MAILTO:communityeducation@missionhospice.org
LOCATION:
END:VEVENT
BEGIN:VEVENT
DTSTART;TZID=America/Los_Angeles:20221115T180000
DTEND;TZID=America/Los_Angeles:20221115T193000
DTSTAMP:20260421T013509
CREATED:20200923T214251Z
LAST-MODIFIED:20240102T193937Z
UID:10002950-1668535200-1668540600@www.missionhospice.org
SUMMARY:*VIRTUAL* Drop-in Support Group – Tuesday Evenings
DESCRIPTION:This weekly *virtual* drop-in Bereavement Support Group is offered by video/phone\, free of charge. This group is open to family members of Mission Hospice patients\, and to all bereaved individuals living in Mission Hospice’s geographical service area. \nPlease contact facilitator Christine Kovach\, LCSW by email for more information.
URL:https://www.missionhospice.org/event/virtual-drop-in-support-group-tuesday-evenings-2/2022-11-15/
CATEGORIES:Grief Support
ORGANIZER;CN="Christine Kovach%2C LCSW":MAILTO:ckovach@missionhospice.org
LOCATION:https://www.missionhospice.org/event/virtual-drop-in-support-group-tuesday-evenings-2/2022-11-15/
END:VEVENT
BEGIN:VEVENT
DTSTART;TZID=America/Los_Angeles:20221117T160000
DTEND;TZID=America/Los_Angeles:20221117T173000
DTSTAMP:20260421T013509
CREATED:20200923T213723Z
LAST-MODIFIED:20221104T211943Z
UID:10002585-1668700800-1668706200@www.missionhospice.org
SUMMARY:*VIRTUAL* Drop-in Support Group – Thursday Afternoons
DESCRIPTION:This weekly *virtual* drop-in Bereavement Support Group is offered by video/phone\, free of charge. It’s open to family members of Mission Hospice patients\, and to all bereaved individuals living in Mission Hospice’s geographical service area. Please contact Christine Kovach\, LCSW by email for more information.
URL:https://www.missionhospice.org/event/virtual-drop-in-support-group-thursday-afternoons-2/2022-11-17/
CATEGORIES:Grief Support
ORGANIZER;CN="Christine Kovach%2C LCSW":MAILTO:ckovach@missionhospice.org
LOCATION:https://www.missionhospice.org/event/virtual-drop-in-support-group-thursday-afternoons-2/2022-11-17/
END:VEVENT
BEGIN:VEVENT
DTSTART;TZID=America/Los_Angeles:20221117T180000
DTEND;TZID=America/Los_Angeles:20221117T193000
DTSTAMP:20260421T013509
CREATED:20220923T212559Z
LAST-MODIFIED:20240501T231012Z
UID:10003711-1668708000-1668713400@www.missionhospice.org
SUMMARY:*VIRTUAL* Suicide Loss Support Group
DESCRIPTION:This free *virtual* biweekly support group (1st and 3rd Thursday evenings) is for adults grieving the loss of a loved one to suicide. This group is open to family members of Mission Hospice patients\, and to all bereaved individuals living in Mission Hospice’s geographical service area. \nPlease contact Christine Kovach\, LCSW by email for more information and to sign up for the group.
URL:https://www.missionhospice.org/event/virtual-suicide-loss-support-group-1st-3rd-thursday-evenings/2022-11-17/
CATEGORIES:Grief Support
ORGANIZER;CN="Christine Kovach%2C LCSW":MAILTO:ckovach@missionhospice.org
END:VEVENT
BEGIN:VEVENT
DTSTART;TZID=America/Los_Angeles:20221119T100000
DTEND;TZID=America/Los_Angeles:20221119T113000
DTSTAMP:20260421T013509
CREATED:20220923T212553Z
LAST-MODIFIED:20220923T212553Z
UID:10003314-1668852000-1668857400@www.missionhospice.org
SUMMARY:*VIRTUAL* Drop-in Support Group – 1st/3rd/5th Saturday Mornings
DESCRIPTION:This biweekly *virtual* drop-in Bereavement Support Group is offered by video/phone\, free of charge. This group is open to family members of Mission Hospice patients\, and to all bereaved individuals living in Mission Hospice’s geographical service area.  \nPlease contact Christine Kovach\, LCSW by email for more information.
URL:https://www.missionhospice.org/event/virtual-drop-in-support-group-1st-3rd-5th-saturday-mornings-2/2022-11-19/
CATEGORIES:Grief Support
ORGANIZER;CN="Christine Kovach%2C LCSW":MAILTO:ckovach@missionhospice.org
LOCATION:https://www.missionhospice.org/event/virtual-drop-in-support-group-1st-3rd-5th-saturday-mornings-2/2022-11-19/
END:VEVENT
END:VCALENDAR