BEGIN:VCALENDAR
VERSION:2.0
PRODID:-//Mission Hospice &amp; Home Care - ECPv6.15.20//NONSGML v1.0//EN
CALSCALE:GREGORIAN
METHOD:PUBLISH
X-WR-CALNAME:Mission Hospice &amp; Home Care
X-ORIGINAL-URL:https://www.missionhospice.org
X-WR-CALDESC:Events for Mission Hospice &amp; Home Care
REFRESH-INTERVAL;VALUE=DURATION:PT1H
X-Robots-Tag:noindex
X-PUBLISHED-TTL:PT1H
BEGIN:VTIMEZONE
TZID:America/Los_Angeles
BEGIN:DAYLIGHT
TZOFFSETFROM:-0800
TZOFFSETTO:-0700
TZNAME:PDT
DTSTART:20230312T100000
END:DAYLIGHT
BEGIN:STANDARD
TZOFFSETFROM:-0700
TZOFFSETTO:-0800
TZNAME:PST
DTSTART:20231105T090000
END:STANDARD
BEGIN:DAYLIGHT
TZOFFSETFROM:-0800
TZOFFSETTO:-0700
TZNAME:PDT
DTSTART:20240310T100000
END:DAYLIGHT
BEGIN:STANDARD
TZOFFSETFROM:-0700
TZOFFSETTO:-0800
TZNAME:PST
DTSTART:20241103T090000
END:STANDARD
BEGIN:DAYLIGHT
TZOFFSETFROM:-0800
TZOFFSETTO:-0700
TZNAME:PDT
DTSTART:20250309T100000
END:DAYLIGHT
BEGIN:STANDARD
TZOFFSETFROM:-0700
TZOFFSETTO:-0800
TZNAME:PST
DTSTART:20251102T090000
END:STANDARD
END:VTIMEZONE
BEGIN:VEVENT
DTSTART;TZID=America/Los_Angeles:20240808T160000
DTEND;TZID=America/Los_Angeles:20240808T173000
DTSTAMP:20260423T012243
CREATED:20200923T213723Z
LAST-MODIFIED:20221104T211943Z
UID:10002675-1723132800-1723138200@www.missionhospice.org
SUMMARY:*VIRTUAL* Drop-in Support Group – Thursday Afternoons
DESCRIPTION:This weekly *virtual* drop-in Bereavement Support Group is offered by video/phone\, free of charge. It’s open to family members of Mission Hospice patients\, and to all bereaved individuals living in Mission Hospice’s geographical service area. Please contact Christine Kovach\, LCSW by email for more information.
URL:https://www.missionhospice.org/event/virtual-drop-in-support-group-thursday-afternoons-2/2024-08-08/
CATEGORIES:Grief Support
ORGANIZER;CN="Christine Kovach%2C LCSW":MAILTO:ckovach@missionhospice.org
LOCATION:https://www.missionhospice.org/event/virtual-drop-in-support-group-thursday-afternoons-2/2024-08-08/
END:VEVENT
BEGIN:VEVENT
DTSTART;TZID=America/Los_Angeles:20240808T180000
DTEND;TZID=America/Los_Angeles:20240808T200000
DTSTAMP:20260423T012243
CREATED:20240330T220014Z
LAST-MODIFIED:20240330T224033Z
UID:10009399-1723140000-1723147200@www.missionhospice.org
SUMMARY:Art for Healing SoulCollage® Series
DESCRIPTION:This free monthly expressive arts support group (2nd Thursday of the month\, May – October) offers adults and mature teens a creative outlet for expressing grief. No art experience necessary. This group is open to family members of Mission Hospice patients in California and all bereaved individuals living in the the San Mateo and Santa Clara County area. \nPlease contact facilitator Christine Kovach\, LCSW by email for more information.
URL:https://www.missionhospice.org/event/art-for-healing-soulcollage-series/2024-08-08/
LOCATION:Mission Hospice Peninsula Office\, 66 Bovet Rd.\, San Mateo\, CA\, 94402\, United States
CATEGORIES:Grief Support
ORGANIZER;CN="Christine Kovach%2C LCSW":MAILTO:ckovach@missionhospice.org
GEO:37.5589635;-122.3030424
X-APPLE-STRUCTURED-LOCATION;VALUE=URI;X-ADDRESS=Mission Hospice Peninsula Office 66 Bovet Rd. San Mateo CA 94402 United States;X-APPLE-RADIUS=500;X-TITLE=66 Bovet Rd.:geo:-122.3030424,37.5589635
END:VEVENT
END:VCALENDAR